BEGIN:VCALENDAR
VERSION:2.0
PRODID:-//ChamberMaster//Event Calendar 2.0//EN
METHOD:PUBLISH
X-PUBLISHED-TTL:P3D
REFRESH-INTERVAL:P3D
CALSCALE:GREGORIAN
BEGIN:VEVENT
DTSTART;VALUE=DATE:20261127
DTEND;VALUE=DATE:20261206
TRANSP:TRANSPARENT
X-MICROSOFT-CDO-ALLDAYEVENT:TRUE
SUMMARY:Shop Local in Portland
DESCRIPTION:Shop Local
X-ALT-DESC;FMTTYPE=text/html:Shop Local&nbsp\;
LOCATION:Portland TN
UID:e.3385.1818
SEQUENCE:3
DTSTAMP:20260419T093606Z
URL:https://www.portlandcofc.com/events/details/shop-local-in-portland-1818
END:VEVENT

END:VCALENDAR
