BEGIN:VCALENDAR
VERSION:2.0
PRODID:-//ChamberMaster//Event Calendar 2.0//EN
METHOD:PUBLISH
X-PUBLISHED-TTL:P3D
REFRESH-INTERVAL:P3D
CALSCALE:GREGORIAN
BEGIN:VEVENT
DTSTART:20190802T170000Z
DTEND:20190802T180000Z
X-MICROSOFT-CDO-ALLDAYEVENT:FALSE
SUMMARY:Ryan Johns Strength and Conditioning Ribbon Cutting
DESCRIPTION:Join us for a Ribbon Cutting to celebrate the opening of Ryan Johns Strength and Conditioning!
X-ALT-DESC;FMTTYPE=text/html:Join us for a Ribbon Cutting to celebrate the opening of Ryan Johns Strength and Conditioning!&nbsp\;
LOCATION:115 E Knight Street Portland\, TN
UID:e.3385.239
SEQUENCE:3
DTSTAMP:20260421T080554Z
URL:https://www.portlandcofc.com/events/details/ryan-johns-strength-and-conditioning-ribbon-cutting-239
END:VEVENT

END:VCALENDAR
