BEGIN:VCALENDAR
VERSION:2.0
PRODID:-//ChamberMaster//Event Calendar 2.0//EN
METHOD:PUBLISH
X-PUBLISHED-TTL:P3D
REFRESH-INTERVAL:P3D
CALSCALE:GREGORIAN
BEGIN:VEVENT
DTSTART:20260226T180000Z
DTEND:20260226T200000Z
X-MICROSOFT-CDO-ALLDAYEVENT:FALSE
SUMMARY:Portland Workforce and Education Roundtable
DESCRIPTION:Industry & Education partners - join us for our next Workforce & Education Roundtable on February 26th at Dorman Products. \n\nThe topic for this meeting will be workforce needs (current out to 2030)\n\n\n\nPlease wear closed-toe\, flat shoes.
X-ALT-DESC;FMTTYPE=text/html:Industry &amp\; Education partners - join us for our next Workforce &amp\; Education Roundtable on February 26th at Dorman Products.&nbsp\;<br />\nThe topic for this meeting will be workforce needs (current out to 2030)<br />\n<br />\nPlease wear closed-toe\, flat shoes.&nbsp\;
LOCATION:Dorman Products 1140 Vaughn Parkway Portland\, TN
UID:e.3385.1767
SEQUENCE:3
DTSTAMP:20260424T171231Z
URL:https://www.portlandcofc.com/events/details/portland-workforce-and-education-roundtable-1767
END:VEVENT

END:VCALENDAR
