BEGIN:VCALENDAR
VERSION:2.0
PRODID:-//ChamberMaster//Event Calendar 2.0//EN
METHOD:PUBLISH
X-PUBLISHED-TTL:P3D
REFRESH-INTERVAL:P3D
CALSCALE:GREGORIAN
BEGIN:VEVENT
DTSTART:20210724T230000Z
DTEND:20210725T020000Z
X-MICROSOFT-CDO-ALLDAYEVENT:FALSE
SUMMARY:Live on the Lawn with KIXX at Sumner Crest Winery
DESCRIPTION:
X-ALT-DESC;FMTTYPE=text/html:
LOCATION:Sumner Crest Winery
UID:e.3385.573
SEQUENCE:3
DTSTAMP:20260424T013448Z
URL:https://www.portlandcofc.com/events/details/live-on-the-lawn-with-kixx-at-sumner-crest-winery-573
END:VEVENT

END:VCALENDAR
