BEGIN:VCALENDAR
VERSION:2.0
PRODID:-//ChamberMaster//Event Calendar 2.0//EN
METHOD:PUBLISH
X-PUBLISHED-TTL:P3D
REFRESH-INTERVAL:P3D
CALSCALE:GREGORIAN
BEGIN:VEVENT
DTSTART;VALUE=DATE:20260207
DTEND;VALUE=DATE:20260208
TRANSP:TRANSPARENT
X-MICROSOFT-CDO-ALLDAYEVENT:TRUE
SUMMARY:Daddy/ Daughter Dance
DESCRIPTION:Daddy/ Daughter Dance\n\n\n\nThe annual Daddy Daughter Dance is a night of entertainment including dance\, games and music. Girls of all ages may be accompanied by their dad\, grandfather\, uncle\, or the special father figure in her life.
X-ALT-DESC;FMTTYPE=text/html:Daddy/ Daughter Dance<br />\n<br />\n<span style="color: rgb(49\, 55\, 65)\; font-family: GPCommerce\, Arial\, sans-serif\; font-size: 14px\;">The annual Daddy Daughter Dance is a night of entertainment including dance\, games and music. Girls of all ages may be accompanied by their dad\, grandfather\, uncle\, or the special father figure in her life.</span>
LOCATION:Richland Gym 303 Portland Blvd Portland TN 37148
UID:e.3385.1757
SEQUENCE:3
DTSTAMP:20260424T182943Z
URL:https://www.portlandcofc.com/events/details/daddy-daughter-dance-1757
END:VEVENT

END:VCALENDAR
