BEGIN:VCALENDAR
VERSION:2.0
PRODID:-//ChamberMaster//Event Calendar 2.0//EN
METHOD:PUBLISH
X-PUBLISHED-TTL:P3D
REFRESH-INTERVAL:P3D
CALSCALE:GREGORIAN
BEGIN:VEVENT
DTSTART:20260202T223000Z
DTEND:20260203T050000Z
X-MICROSOFT-CDO-ALLDAYEVENT:FALSE
SUMMARY:Community Life Bridge- Annual Groundhog Day Benefit
DESCRIPTION:Community Life Bridge is hosting the Annual Groundhog Day Benefit\n\n\n\nLocated at The Local Hendersonville\n\n300 Indian Lake Blvd\n\nHendersonville\, TN 37075
X-ALT-DESC;FMTTYPE=text/html:<div class="xdj266r x14z9mp xat24cr x1lziwak x1vvkbs x126k92a" style="overflow-wrap: break-word\; white-space-collapse: preserve\; margin-inline: 0px\; margin-bottom: 0px\; margin-top: 0px\; font-family: &quot\;Segoe UI Historic&quot\;\, &quot\;Segoe UI&quot\;\, Helvetica\, Arial\, sans-serif\; color: rgb(5\, 5\, 5)\; font-size: 15px\;">\n<div dir="auto" style="font-family: inherit\;">Community Life Bridge is hosting the Annual Groundhog Day Benefit</div>\n</div>\n\n<div class="x14z9mp xat24cr x1lziwak x1vvkbs xtlvy1s x126k92a" style="overflow-wrap: break-word\; white-space-collapse: preserve\; margin-top: 0.5em\; margin-inline: 0px\; margin-bottom: 0px\; font-family: &quot\;Segoe UI Historic&quot\;\, &quot\;Segoe UI&quot\;\, Helvetica\, Arial\, sans-serif\; color: rgb(5\, 5\, 5)\; font-size: 15px\;">\n<div dir="auto" style="font-family: inherit\;">Located at The Local Hendersonville</div>\n\n<div dir="auto" style="font-family: inherit\;">300 Indian Lake Blvd</div>\n\n<div dir="auto" style="font-family: inherit\;">Hendersonville\, TN 37075</div>\n</div>\n
LOCATION:Located at The Local Hendersonville 300 Indian Lake Blvd Hendersonville\, TN 37075
UID:e.3385.1772
SEQUENCE:3
DTSTAMP:20260424T195701Z
URL:https://www.portlandcofc.com/events/details/community-life-bridge-annual-groundhog-day-benefit-1772
END:VEVENT

END:VCALENDAR
