BEGIN:VCALENDAR
VERSION:2.0
PRODID:-//ChamberMaster//Event Calendar 2.0//EN
METHOD:PUBLISH
X-PUBLISHED-TTL:P3D
REFRESH-INTERVAL:P3D
CALSCALE:GREGORIAN
BEGIN:VEVENT
DTSTART;VALUE=DATE:20250401
DTEND;VALUE=DATE:20250501
TRANSP:TRANSPARENT
X-MICROSOFT-CDO-ALLDAYEVENT:TRUE
SUMMARY:2025 Mom & Baby Care Drive
DESCRIPTION:Support moms and babies in Sumner County!\n\nCollecting diapers\, pull-ups\, & wipes for babies and feminine products and personal care items for moms.\n\nEvery baby deserves a healthy start\, and every mother deserves access to essential personal care items but for many families in our community\, these necessities are out of reach.\n\nUnited Way of Sumner County's Health Community Impact Area includes a focus on Maternal & Child Health\, ensuring that moms and babies have the resources needed for a strong\, healthy foundation. Access to diapers\, wipes\, and feminine care products is essential to that mission but too many families are struggling to afford these basic necessities.\n\nDiaper Need is a Growing Crisis\n\n\n	1 in 2 U.S. families (46.7%) struggle to afford diapers to keep their baby clean\, dry\, and healthy. \n	The cost of diapers has risen\, with families now spending $960 to $1\,200 per year a significant financial strain. \n	3 in 5 parents miss work or school because they can't afford the diapers required for childcare.\n\n\nMoms Shouldn't Have to Choose Between Their Needs & Their Baby's\n\n\n	The average woman spends $120 to $180 per year on feminine hygiene products over $5\,000 in a lifetime. \n	Many mothers report having to choose between buying diapers or personal care essentials due to financial hardship.
X-ALT-DESC;FMTTYPE=text/html:<h3>Support moms and babies in Sumner County!</h3>\n\n<h5><span style="color:rgb(32\, 40\, 107)">Collecting diapers\, pull-ups\, &amp\; wipes for babies and feminine products and personal care items for moms.</span></h5>\n\n<p>Every baby deserves a healthy start\, and every mother deserves access to essential personal care items&mdash\;but for many families in our community\, these necessities are out of reach.</p>\n\n<p>United Way of Sumner County&rsquo\;s Health Community Impact Area includes a focus on Maternal &amp\; Child Health\, ensuring that moms and babies have the resources needed for a strong\, healthy foundation. Access to diapers\, wipes\, and feminine care products is essential to that mission&mdash\;but too many families are struggling to afford these basic necessities.</p>\n\n<p>Diaper Need is a Growing Crisis</p>\n\n<ul>\n	<li>1 in 2 U.S. families (46.7%) struggle to afford diapers to keep their baby clean\, dry\, and healthy.&nbsp\;</li>\n	<li>The cost of diapers has risen\, with families now spending $960 to $1\,200 per year&mdash\;a significant financial strain.&nbsp\;</li>\n	<li>3 in 5 parents miss work or school because they can&rsquo\;t afford the diapers required for childcare.</li>\n</ul>\n\n<p>Moms Shouldn&rsquo\;t Have to Choose Between Their Needs &amp\; Their Baby&rsquo\;s</p>\n\n<ul>\n	<li>The average woman spends $120 to $180 per year on feminine hygiene products&mdash\;over $5\,000 in a lifetime.&nbsp\;</li>\n	<li>Many mothers report having to choose between buying diapers or personal care essentials due to financial hardship.</li>\n</ul>\n
LOCATION:Public drop-off locations all over Sumner County.
UID:e.3385.1624
SEQUENCE:3
DTSTAMP:20260422T204536Z
URL:https://www.portlandcofc.com/events/details/2025-mom-baby-care-drive-1624
END:VEVENT

END:VCALENDAR
